BEGIN:VCALENDAR
VERSION:2.0
PRODID:-//wp-events-plugin.com//7.2.3.1//EN
TZID:Europe/London
X-WR-TIMEZONE:Europe/London
BEGIN:VEVENT
UID:411@sadars.com
DTSTART;TZID=Europe/London:20261011T100000
DTEND;TZID=Europe/London:20261011T100000
DTSTAMP:20260306T181645Z
URL:https://sadars.com/events/2026-annual-hornsea-arc-rally/
SUMMARY:2026 Annual Hornsea ARC Rally
DESCRIPTION:2026 Annual Hornsea ARC Rally&nbsp\;\n\n&nbsp\;\n\nDriffield Sh
 owground\, YO25 9FB\, East Yorkshire.\n\nDetails from Les on 01377 252 393
 .
END:VEVENT
BEGIN:VTIMEZONE
TZID:Europe/London
X-LIC-LOCATION:Europe/London
BEGIN:DAYLIGHT
DTSTART:20260329T020000
TZOFFSETFROM:+0000
TZOFFSETTO:+0100
TZNAME:BST
END:DAYLIGHT
END:VTIMEZONE
END:VCALENDAR