BEGIN:VCALENDAR
VERSION:2.0
PRODID:-//wp-events-plugin.com//7.2.3.1//EN
TZID:Europe/London
X-WR-TIMEZONE:Europe/London
BEGIN:VEVENT
UID:265@sadars.com
DTSTART;TZID=Europe/London:20250927T000000
DTEND;TZID=Europe/London:20250928T235900
DTSTAMP:20250429T023330Z
URL:https://sadars.com/events/cq-ww-rtty-dx-contest/
SUMMARY:CQ WW RTTY DX Contest
DESCRIPTION:CQ WW RTTY DX Contest\n&nbsp\;\n\nRULES
CATEGORIES:Contest
END:VEVENT
BEGIN:VTIMEZONE
TZID:Europe/London
X-LIC-LOCATION:Europe/London
BEGIN:DAYLIGHT
DTSTART:20250330T020000
TZOFFSETFROM:+0000
TZOFFSETTO:+0100
TZNAME:BST
END:DAYLIGHT
END:VTIMEZONE
END:VCALENDAR