BEGIN:VCALENDAR
VERSION:2.0
PRODID:-//wp-events-plugin.com//7.2.3.1//EN
TZID:Europe/London
X-WR-TIMEZONE:Europe/London
BEGIN:VEVENT
UID:410@sadars.com
DTSTART;TZID=Europe/London:20260809T090000
DTEND;TZID=Europe/London:20260809T150000
DTSTAMP:20260306T181317Z
URL:https://sadars.com/events/flight-refuelling-ars-hamfest/
SUMMARY:Flight Refuelling ARS Hamfest
DESCRIPTION:Flight Refuelling ARS Hamfest\n\n&nbsp\;\n\nCobham Sports and S
 ocial Club Ground\, Merley\, near Wimborne\, Dorset\, BH21 3DA.\n\n9am to 
 3pm. Admission £5 (includes parking). Talk-in on 145.550MHz. On site cate
 ring and bar.\n\nNo dogs except assistance dogs (landowner’s condition).
 \n\nIndoor and field pitches.\n\nCar-boot sellers and field traders welcom
 e from 7am.\n\nBooking forms available via frars.co.uk
END:VEVENT
BEGIN:VTIMEZONE
TZID:Europe/London
X-LIC-LOCATION:Europe/London
BEGIN:DAYLIGHT
DTSTART:20260329T020000
TZOFFSETFROM:+0000
TZOFFSETTO:+0100
TZNAME:BST
END:DAYLIGHT
END:VTIMEZONE
END:VCALENDAR