BEGIN:VCALENDAR
VERSION:2.0
PRODID:-//wp-events-plugin.com//7.2.3.1//EN
TZID:Europe/London
X-WR-TIMEZONE:Europe/London
BEGIN:VEVENT
UID:412@sadars.com
DTSTART;TZID=Europe/London:20261025T111500
DTEND;TZID=Europe/London:20261025T111500
DTSTAMP:20260306T181741Z
URL:https://sadars.com/events/galashiels-radio-rally-and-open-day/
SUMMARY:Galashiels Radio Rally and Open Day
DESCRIPTION:Galashiels Radio Rally and Open Day\n\nThe Volunteer Hall\, St 
 Johns Street\, Galashiels\, TD1 3JX.\n\nDoors open at 11.15am. Disabled ac
 cess from 11am. Admission £3.\n\nBring and buy\, refreshments and traders
 .\n\nMore details at galaradioclub.co.uk
END:VEVENT
BEGIN:VTIMEZONE
TZID:Europe/London
X-LIC-LOCATION:Europe/London
BEGIN:STANDARD
DTSTART:20261025T010000
TZOFFSETFROM:+0100
TZOFFSETTO:+0000
TZNAME:GMT
END:STANDARD
END:VTIMEZONE
END:VCALENDAR